BEGIN:VCALENDAR
VERSION:2.0
PRODID:-//eventon.com NONSGML v1.0//EN
CALSCALE:GREGORIAN
METHOD:PUBLISH
BEGIN:VEVENT
UID:69e8620c6e017
DTSTAMP:20260422T055212Z
DTSTART:20260911
DTEND:20260912
LOCATION:Het Buitencentrum Overasselt Sint Walrickweg 9 | NL-6611 KG Overasselt
SUMMARY:Maltstock 2026
DESCRIPTION:Das entspannte Whisky Wochenende beginnt wie gewohnt ganz entsp
 annt am Freitag Nachmittag und endet für alle weiterhin entspannt am Sonnt
 ag nach dem Frühstück. Es gibt vor Ort für alle Unterkünfte\,  mehr auf
  der Website https://www.maltstock.com\nhttps://whiskyexperts.net/events/ma
 ltstock-2021/
URL:https://whiskyexperts.net/events/maltstock-2021/
END:VEVENT
END:VCALENDAR