BEGIN:VCALENDAR
VERSION:2.0
PRODID:-//eventon.com NONSGML v1.0//EN
CALSCALE:GREGORIAN
METHOD:PUBLISH
BEGIN:VEVENT
UID:69e8620ca3790
DTSTAMP:20260422T055212Z
DTSTART:20260911
DTEND:20260912
LOCATION:Orangerie des Schloss Charlottenburg Spandauer Damm 22 | D-14059 Berlin
SUMMARY:Whisky Herbst
DESCRIPTION:Der Whisky-Herbst ist seit Ã¼ber 20 Jahren die Veranstaltung fÃ
 ¼r alle Freunde und Interessierte rund um das Thema Whisky. Egal ob traditi
 onalle aus Schottland\,  Irland oder aus Japan\,  Amerika\,  Indien oder au
 ch Deutschland oder noch ganz wo anders her.\nhttps://whiskyexperts.net/eve
 nts/whisky-herbst/
URL:https://whiskyexperts.net/events/whisky-herbst/
END:VEVENT
END:VCALENDAR