BEGIN:VCALENDAR
VERSION:2.0
PRODID:-//eventon.com NONSGML v1.0//EN
CALSCALE:GREGORIAN
METHOD:PUBLISH
BEGIN:VEVENT
UID:69e861d7abdf7
DTSTAMP:20260422T055119Z
DTSTART:20261002
DTEND:20261003
LOCATION:Music Hall Innsbruck Grabenweg 74
SUMMARY:Whisky Messe Austria 2026
DESCRIPTION:Die Whisky Messe Austria in Innsbruck ist eine Messe für Whisk
 y\,  Rum\,  Gin\,  Kultur und Accessoires. Renommierte Aussteller aus dem I
 n- und Ausland präsentieren sich mit ihrem aktuellen Angebot an Whisky\,  
 Premium Rum und Gin. Die Whiskymesse Innsbruck ist eine Kombination aus Fac
 hausstellung mit Spezialverkostungen und passendem Rahmenprogramm mit versc
 hiedenen[..]\nhttps://whiskyexperts.net/events/whisky-messe-austria-2026/
URL:https://whiskyexperts.net/events/whisky-messe-austria-2026/
END:VEVENT
END:VCALENDAR