BEGIN:VCALENDAR
VERSION:2.0
PRODID:-//eventon.com NONSGML v1.0//EN
CALSCALE:GREGORIAN
METHOD:PUBLISH
BEGIN:VEVENT
UID:69e8620bde579
DTSTAMP:20260422T055211Z
DTSTART:20260627
DTEND:20260628
LOCATION:Schraml – The Stonewood Distillery Pfarrgasse 19-22\,  92681 Erbendorf
SUMMARY:Stonewood GenussFestival 2026
DESCRIPTION:Zum wiederholten Mal lädt Schraml – The Stonewood Distillery
  zum Stonewood GenussFestival 2026 by Schraml &amp; Friends&nbsp;ein – ei
 n einzigartiges Event für alle Liebhaber feiner Destillate und kulinarisch
 er Erlebnisse. Am 27. und 28. Juni 2026&nbsp;verwandelt sich das Gelände d
 er Traditionsbrennerei in eine Bühne für Genuss\,  Handwerk und echte Beg
 egnungen. Ob[..]\nhttps://whiskyexperts.net/events/stonewood-genussfestival
 -2026/
URL:https://whiskyexperts.net/events/stonewood-genussfestival-2026/
END:VEVENT
END:VCALENDAR